BEGIN:VCALENDAR
VERSION:2.0
PRODID:-//Coach People Inc. - ECPv6.15.20//NONSGML v1.0//EN
CALSCALE:GREGORIAN
METHOD:PUBLISH
X-WR-CALNAME:Coach People Inc.
X-ORIGINAL-URL:https://coachpeople.com
X-WR-CALDESC:Events for Coach People Inc.
REFRESH-INTERVAL;VALUE=DURATION:PT1H
X-Robots-Tag:noindex
X-PUBLISHED-TTL:PT1H
BEGIN:VTIMEZONE
TZID:America/New_York
BEGIN:DAYLIGHT
TZOFFSETFROM:-0500
TZOFFSETTO:-0400
TZNAME:EDT
DTSTART:20170312T070000
END:DAYLIGHT
BEGIN:STANDARD
TZOFFSETFROM:-0400
TZOFFSETTO:-0500
TZNAME:EST
DTSTART:20171105T060000
END:STANDARD
BEGIN:DAYLIGHT
TZOFFSETFROM:-0500
TZOFFSETTO:-0400
TZNAME:EDT
DTSTART:20180311T070000
END:DAYLIGHT
BEGIN:STANDARD
TZOFFSETFROM:-0400
TZOFFSETTO:-0500
TZNAME:EST
DTSTART:20181104T060000
END:STANDARD
BEGIN:DAYLIGHT
TZOFFSETFROM:-0500
TZOFFSETTO:-0400
TZNAME:EDT
DTSTART:20190310T070000
END:DAYLIGHT
BEGIN:STANDARD
TZOFFSETFROM:-0400
TZOFFSETTO:-0500
TZNAME:EST
DTSTART:20191103T060000
END:STANDARD
BEGIN:DAYLIGHT
TZOFFSETFROM:-0500
TZOFFSETTO:-0400
TZNAME:EDT
DTSTART:20200308T070000
END:DAYLIGHT
BEGIN:STANDARD
TZOFFSETFROM:-0400
TZOFFSETTO:-0500
TZNAME:EST
DTSTART:20201101T060000
END:STANDARD
END:VTIMEZONE
BEGIN:VEVENT
DTSTART;TZID=America/New_York:20190124T083000
DTEND;TZID=America/New_York:20190124T173000
DTSTAMP:20260422T232858
CREATED:20180705T230918Z
LAST-MODIFIED:20180721T223100Z
UID:2113-1548318600-1548351000@coachpeople.com
SUMMARY:Career Coaching Discover Your Values\, Character Strengths & Discover What’s Next One Day Program New York City\, NY
DESCRIPTION:Career Coaching: Discover Your Values\, Character Strengths & Discover What’s Next\n© Coach People Inc.® All rights reserved. Do you ever wish you could just take a day off to step back & reflect on your career and ask yourself questions like: What are my Values? What are my Character Strengths? Is my current job aligned with my Values? Can my current place of employment provide career opportunities to help me grow? How do I want to grow? How can I leverage and build on my Character Strengths? How can I be sure there’s a good cultural fit with my Values? What’s next for me? Where am I going? \nIn this program\, you will explore these and more career related questions using a series of awareness building tools that have been scientifically tested. The Character strengths tool will not only show you your top strengths it will show you which you use\, overuse or not use at all\, but would like to use more. The course will help you step back\, reflect\, and discover your natural strengths and beginning to design your dream job. Participants will leave with a report on their Character strengths\, a list of their top 5 Values\, for some a complete description of their dream job and for others\, the beginning of a description\, and for participants who are ready: an action plan to begin their job search. The focus of this program is to have a safe\, confidential\, place to discuss: Where you are? What’s working? What’s Not Working? and Where you want to Go? with the support of a small group of participants and an expert coach to begin your journey. \nNote: This program is not designed to look at your brand\, design an impactful resume\, discuss interview strategies or role-play interviews\, nor review your Linked-In profile. We offer 1:1 coaching sessions separately to address these important aspects of career coaching. For additional information or to schedule career coaching sessions\, please contact us at info@coachpeople.com \nWhat Can I Expect?\n\nClarify your Values\nExplore how to express your Values more at home and at work.\nClarify your “Character Strengths” using a powerful report to clarify your top strengths and how to align your work with what’s strong (versus what’s wrong).\nMine your past experiences to synthesize what you do best and where you have the most fun.\nBegin to design your dream job using a vision board or creating a career blueprint/roadmap\nChart multiple pathways to get what you want.\nBe inspired by Participants and learn from their stories\, their forward moving strategies and best practices!\nReceive an electronic book that spells out key elements of your job search with key insights and checklists in one place.\nReceive a list of best: on-line Resources and key websites that will help you in your job search.\nDuring the one hour in class Q&A\, ask the career coach-facilitator “practical questions” on any aspect of career building or search based on their experience\nStay connected with the Facilitator and Participants after the class with 2 post training (optional & included in costs) 2 hour web-based “check-in” classes to continue learning or be held accountable.\n\nWho?\n\nCoaches\, Consultants\, Managers\, Directors\, Vice-Presidents\, Professionals who want to discover their Values\, Character Strengths & Discover how to align with both\nAnyone about to make a career change or thinking of making a career change within their current organization or outside their organization\nAnyone who left their job and in career transition\nAnyone who wants to explore completely new career paths\nAnyone about to retire or newly retired who wants to explore what’s next?\n\nDelivery Method\nInteractive-coach approach\, break-out groups\, creative assessment tools/processes & discussions\, action planning\, Q&A. \nTwo\, 2 hour post training group coaching sessions on the web. (Non-transferable. Use or Lose) \nProgram Length\n1 day program with presentation and Q&A from 8:30am – 5:30pm \nTuition Details\nYour tuition includes all assessments\, materials\, continental breakfast\, 2\, optional\, post training\, 2 hour tele-coaching group follow up calls on web to ensure each Participant is staying on track with their commitments and can ask questions. Tuition does not include: travel\, hotel stay\, lunch\, dinner or related expenses. \nRegistration\nCall 212-501-6973 or email us at info@coachpeople.com \nRegistration is limited to 20 participants.
URL:https://coachpeople.com/event/career-coaching-discover-your-values-character-strengths-discover-whats-next-one-day-program-new-york-1-24-2019/
LOCATION:Breather\, 11 East 44th Street\, New York City\, NY\, United States
CATEGORIES:One Day Program,Training
ORGANIZER;CN="Angie Pincin - Coach People Inc.<sup>%C2%AE</sup>":MAILTO:info@coachpeople.com
END:VEVENT
BEGIN:VEVENT
DTSTART;TZID=America/New_York:20181206T083000
DTEND;TZID=America/New_York:20181206T173000
DTSTAMP:20260422T232858
CREATED:20180322T200554Z
LAST-MODIFIED:20180721T223235Z
UID:1212-1544085000-1544117400@coachpeople.com
SUMMARY:Career Coaching Discover Your Values\, Character Strengths & Discover What’s Next One Day Program New York City\, NY
DESCRIPTION:Career Coaching: Discover Your Values\, Character Strengths & Discover What’s Next\n© Coach People Inc.® All rights reserved. \nDo you ever wish you could just take a day off to step back & reflect on your career and ask yourself questions like: What are my Values? What are my Character Strengths? Is my current job aligned with my Values? Can my current place of employment provide career opportunities to help me grow? How do I want to grow? How can I leverage and build on my Character Strengths? How can I be sure there’s a good cultural fit with my Values? What’s next for me? Where am I going? \nIn this program\, you will explore these and more career related questions using a series of awareness building tools that have been scientifically tested. The Character strengths tool will not only show you your top strengths it will show you which you use\, overuse or not use at all\, but would like to use more. The course will help you step back\, reflect\, and discover your natural strengths and beginning to design your dream job. Participants will leave with a report on their Character strengths\, a list of their top 5 Values\, for some a complete description of their dream job and for others\, the beginning of a description\, and for participants who are ready: an action plan to begin their job search. The focus of this program is to have a safe\, confidential\, place to discuss: Where you are? What’s working? What’s Not Working? and Where you want to Go? with the support of a small group of participants and an expert coach to begin your journey. \nNote: This program is not designed to look at your brand\, design an impactful resume\, discuss interview strategies or role-play interviews\, nor review your Linked-In profile. We offer 1:1 coaching sessions separately to address these important aspects of career coaching. For additional information or to schedule career coaching sessions\, please contact us at info@coachpeople.com \nWhat Can I Expect?\n\nClarify your Values\nExplore how to express your Values more at home and at work.\nClarify your “Character Strengths” using a powerful report to clarify your top strengths and how to align your work with what’s strong (versus what’s wrong).\nMine your past experiences to synthesize what you do best and where you have the most fun.\nBegin to design your dream job using a vision board or creating a career blueprint/roadmap\nChart multiple pathways to get what you want.\nBe inspired by Participants and learn from their stories\, their forward moving strategies and best practices!\nReceive an electronic book that spells out key elements of your job search with key insights and checklists in one place.\nReceive a list of best: on-line Resources and key websites that will help you in your job search.\nDuring the one hour in class Q&A\, ask the career coach-facilitator “practical questions” on any aspect of career building or search based on their experience\nStay connected with the Facilitator and Participants after the class with 2 post training (optional & included in costs) 2 hour web-based “check-in” classes to continue learning or be held accountable.\n\nWho?\n\nCoaches\, Consultants\, Managers\, Directors\, Vice-Presidents\, Professionals who want to discover their Values\, Character Strengths & Discover how to align with both\nAnyone about to make a career change or thinking of making a career change within their current organization or outside their organization\nAnyone who left their job and in career transition\nAnyone who wants to explore completely new career paths\nAnyone about to retire or newly retired who wants to explore what’s next?\n\nDelivery Method\nInteractive-coach approach\, break-out groups\, creative assessment tools/processes & discussions\, action planning\, Q&A. \nTwo\, 2 hour post training group coaching sessions on the web. (Non-transferable. Use or Lose) \nProgram Length\n1 day program with presentation and Q&A from 8:30am – 5:30pm \nTuition Details\nYour tuition includes all assessments\, materials\, continental breakfast\, 2\, optional\, post training\, 2 hour tele-coaching group follow up calls on web to ensure each Participant is staying on track with their commitments and can ask questions. Tuition does not include: travel\, hotel stay\, lunch\, dinner or related expenses. \nRegistration\nCall 212-501-6973 or email us at info@coachpeople.com \nRegistration is limited to 20 participants.
URL:https://coachpeople.com/event/career-coaching-discover-your-values-character-strengths-discover-whats-next-one-day-program-new-york-12-06-2018/
LOCATION:Breather\, 11 East 44th Street\, New York City\, NY\, United States
CATEGORIES:One Day Program,Training
ORGANIZER;CN="Angie Pincin - Coach People Inc.<sup>%C2%AE</sup>":MAILTO:info@coachpeople.com
END:VEVENT
END:VCALENDAR